BEGIN:VCALENDAR
VERSION:2.0
PRODID:-//Academia de baile y danza en Valencia Magic Dance - ECPv6.15.20//NONSGML v1.0//EN
CALSCALE:GREGORIAN
METHOD:PUBLISH
X-WR-CALNAME:Academia de baile y danza en Valencia Magic Dance
X-ORIGINAL-URL:https://www.magicdance.es
X-WR-CALDESC:Eventos para Academia de baile y danza en Valencia Magic Dance
REFRESH-INTERVAL;VALUE=DURATION:PT1H
X-Robots-Tag:noindex
X-PUBLISHED-TTL:PT1H
BEGIN:VTIMEZONE
TZID:Europe/Madrid
BEGIN:DAYLIGHT
TZOFFSETFROM:+0100
TZOFFSETTO:+0200
TZNAME:CEST
DTSTART:20250330T010000
END:DAYLIGHT
BEGIN:STANDARD
TZOFFSETFROM:+0200
TZOFFSETTO:+0100
TZNAME:CET
DTSTART:20251026T010000
END:STANDARD
BEGIN:DAYLIGHT
TZOFFSETFROM:+0100
TZOFFSETTO:+0200
TZNAME:CEST
DTSTART:20260329T010000
END:DAYLIGHT
BEGIN:STANDARD
TZOFFSETFROM:+0200
TZOFFSETTO:+0100
TZNAME:CET
DTSTART:20261025T010000
END:STANDARD
BEGIN:DAYLIGHT
TZOFFSETFROM:+0100
TZOFFSETTO:+0200
TZNAME:CEST
DTSTART:20270328T010000
END:DAYLIGHT
BEGIN:STANDARD
TZOFFSETFROM:+0200
TZOFFSETTO:+0100
TZNAME:CET
DTSTART:20271031T010000
END:STANDARD
END:VTIMEZONE
BEGIN:VEVENT
DTSTART;TZID=Europe/Madrid:20260125T183000
DTEND;TZID=Europe/Madrid:20260125T203000
DTSTAMP:20260425T133655
CREATED:20260113T093350Z
LAST-MODIFIED:20260113T093351Z
UID:11839-1769365800-1769373000@www.magicdance.es
SUMMARY:Taller de cha cha cha con Carmen y Leandro
DESCRIPTION:📣 Taller de Cha Cha Chá (Carmen y Leandro) \nEl Taller de Cha Cha Chá con Carmen y Leandro cambia de fecha y pasa a celebrarse el domingo 25 de enero\, de 18:30 a 20:30\, en Magic Dance (📍 C/ Honorato Juan 14\, Valencia). \nSerá una sesión enfocada en ritmo\, técnica y estilo\, trabajando tanto parte individual como baile en pareja\, para mejorar claridad\, musicalidad y conexión en el Cha Cha Chá. \n💶 Precio: 35€ general | 30€ alumnos Magic Dance\n📩 Reservas por WhatsApp: 665 81 60 20 / 665 09 51 63\n⚠️ Plazas limitadas. \n#MagicDance #ChaChaCha #TallerChaChaCha #ChaChaChaValencia #ValenciaBaila #SalsaValencia #BaileLatino #EscuelaDeBaile #ClasesDeBaile #TallerDeBaile #BaileEnPareja #TecnicaDeBaile #Musicalidad #BailarEnValencia #Valencia #DanceWorkshop #SocialDance #LatinDance
URL:https://www.magicdance.es/event/taller-de-cha-cha-cha-con-carmen-y-leandro/
LOCATION:Valencia
ATTACH;FMTTYPE=image/png:https://www.magicdance.es/wp-content/uploads/2026/01/Carteles-Clases-scaled.png
END:VEVENT
BEGIN:VEVENT
DTSTART;VALUE=DATE:20260131
DTEND;VALUE=DATE:20260202
DTSTAMP:20260425T133655
CREATED:20250801T074345Z
LAST-MODIFIED:20250917T083908Z
UID:11759-1769817600-1769990399@www.magicdance.es
SUMMARY:Certificación y formación en musicalidad para bailadores
DESCRIPTION:🎶¡Vuelve la Certificación y Formación en Musicalidad para Bailadores con Joaquín Arteaga!🎶\n📅Los próximos sábado 31 de enero y domingo 1 de febrero en Magic Dance\, podrás disfrutar de un curso completo diseñado para que mejores tu musicalidad y entiendas la salsa desde dentro. \n🔸 Programa del curso \n\n\nSábado 31 enero▪ 12:00 – 14:00 → Teoría de Musicalidad Básica 1▪ 16:00 – 18:00 → Instrumentos de la Salsa▪ 18:30 – 20:30 → Estructura de un tema de Salsa 1 \n\n\nDomingo 1 febrero▪ 11:30 – 13:30 → Repaso y Examen de Certificación \n\n\n🔸 Precios \n\n\n2 horas: 40€ \n\n\n4 horas: 75€ \n\n\n6 horas: 100€ \n\n\nCurso completo + examen: 130€ \n\n\nDescuento del 50% para quienes ya realizaron el curso anteriormente. \n\n\n📲 Información y reservas: 665 09 51 63 \n👉 Y recuerda: si te presentaste al examen en la edición pasada y no lo aprobaste\, podrás volver a presentarte de forma gratuita. \n#MagicDance #FormaciónBailadores #Musicalidad #Salsa #JoaquinArteaga #BaileEnValencia #AprenderBailando
URL:https://www.magicdance.es/event/certificacion-y-formacion-en-musicalidad-para-bailadores/
LOCATION:Academia Magic Dance\, C/Honorato Juan 14\, Valencia\, Valencia\, Valencia\, 46007\, Spain
ATTACH;FMTTYPE=image/jpeg:https://www.magicdance.es/wp-content/uploads/2025/08/Joaquin-scaled.jpg
END:VEVENT
END:VCALENDAR