BEGIN:VCALENDAR
VERSION:2.0
PRODID:-//Academia de baile y danza en Valencia Magic Dance - ECPv6.15.20//NONSGML v1.0//EN
CALSCALE:GREGORIAN
METHOD:PUBLISH
X-WR-CALNAME:Academia de baile y danza en Valencia Magic Dance
X-ORIGINAL-URL:https://www.magicdance.es
X-WR-CALDESC:Eventos para Academia de baile y danza en Valencia Magic Dance
REFRESH-INTERVAL;VALUE=DURATION:PT1H
X-Robots-Tag:noindex
X-PUBLISHED-TTL:PT1H
BEGIN:VTIMEZONE
TZID:Europe/Madrid
BEGIN:DAYLIGHT
TZOFFSETFROM:+0100
TZOFFSETTO:+0200
TZNAME:CEST
DTSTART:20250330T010000
END:DAYLIGHT
BEGIN:STANDARD
TZOFFSETFROM:+0200
TZOFFSETTO:+0100
TZNAME:CET
DTSTART:20251026T010000
END:STANDARD
BEGIN:DAYLIGHT
TZOFFSETFROM:+0100
TZOFFSETTO:+0200
TZNAME:CEST
DTSTART:20260329T010000
END:DAYLIGHT
BEGIN:STANDARD
TZOFFSETFROM:+0200
TZOFFSETTO:+0100
TZNAME:CET
DTSTART:20261025T010000
END:STANDARD
BEGIN:DAYLIGHT
TZOFFSETFROM:+0100
TZOFFSETTO:+0200
TZNAME:CEST
DTSTART:20270328T010000
END:DAYLIGHT
BEGIN:STANDARD
TZOFFSETFROM:+0200
TZOFFSETTO:+0100
TZNAME:CET
DTSTART:20271031T010000
END:STANDARD
END:VTIMEZONE
BEGIN:VEVENT
DTSTART;VALUE=DATE:20260425
DTEND;VALUE=DATE:20260607
DTSTAMP:20260425T152329
CREATED:20260313T081640Z
LAST-MODIFIED:20260313T081640Z
UID:11853-1777075200-1780790399@www.magicdance.es
SUMMARY:Bootcamp Salsa Flamenco con Carmen Lorente
DESCRIPTION:🔥💃 Bootcamp Salsa Flamenco con Carmen Lorente 💃🔥\nSi quieres trabajar estilo\, técnica\, musicalidad y expresión con un enfoque de escenario\, este Bootcamp es para ti. Carmen Lorente dirige una formación intensiva en la que construiremos una coreografía con carácter\, cuidando brazos\, postura\, marcajes y presencia para que tu baile gane fuerza y elegancia. \n📅 Fechas: 25 de abril · 23 de mayo · 6 de junio\n🕦 Horario: 11:30 a 13:30\n💶 Precio Bootcamp: 100€ \n🎭 Incluye SHOW en el Teatro Rambleta el 28 de junio\, una oportunidad única para vivir la experiencia completa y llevar el trabajo a escena. \n📍 Magic Dance – C/ Honorato Juan 14\, Valencia\n📲 Información y reservas: 665 09 51 63\n⚠️ Plazas limitadas. \n#MagicDance #CarmenLorente #Bootcamp #SalsaFlamenco #SalsaValencia #ValenciaBaila #FormacionDeBaile #DanzaValencia #EscuelaDeBaile #Musicalidad #Estilo #TecnicaDeBaile #Coreografia #ShowTime #TeatroRambleta #BailarEnValencia #Valencia
URL:https://www.magicdance.es/event/bootcamp-salsa-flamenco-con-carmen-lorente/
LOCATION:Academia Magic Dance\, C/Honorato Juan 14\, Valencia\, Valencia\, Valencia\, 46007\, Spain
ATTACH;FMTTYPE=image/png:https://www.magicdance.es/wp-content/uploads/2026/03/Carteles-Clases-scaled.png
ORGANIZER;CN="Carmen Lorente":MAILTO:magidanceacademia@gmail.com
END:VEVENT
BEGIN:VEVENT
DTSTART;VALUE=DATE:20260724
DTEND;VALUE=DATE:20260727
DTSTAMP:20260425T152329
CREATED:20260313T082415Z
LAST-MODIFIED:20260313T082415Z
UID:11858-1784851200-1785110399@www.magicdance.es
SUMMARY:Formación Presencial de Bachata Tradicional con Evelyn “La Negra”
DESCRIPTION:✨ Nueva edición en Magic Dance: Formación Presencial de Bachata Tradicional con Evelyn “La Negra” ✨🔴 Exclusivo en España\nPara Magic Dance es un auténtico honor volver a recibir a Evelyn “La Negra” y poder ofrecer en Valencia una formación tan completa y con tanto criterio. Si quieres aprender bachata tradicional desde la base\, con estructura y herramientas reales (tanto para bailar como para enseñar)\, esta es una fecha clave. \n📅 Del 24 al 26 de julio de 2026 llega una nueva edición y viene con una gran novedad: se incorpora el MÓDULO 3 del Teacher Training.Además\, se mantienen los Módulos 1 y 2 y el Intensivo de Bachata Tradicional para bailadores que no son profes y quieren mejorar técnica\, musicalidad y fundamentos. \nEn la formación trabajaremos: historia y fundamentos\, didáctica\, musicalidad\, pasitos\, body movement\, trabajo individual y en pareja e improvisación. \n⚠️ Plazas limitadas: si te interesa\, apúntate cuanto antes para asegurar tu sitio. \n📍 Magic Dance – C/ Honorato Juan 14\, Valencia📲 Información y reservas: 665 81 60 20 \n#MagicDance #EvelynLaNegra #BachataTradicional #BachataDominicana #TeacherTraining #Modulo3 #FormacionDeBaile #ExclusivoEnEspaña #ValenciaBaila #BachataValencia #Musicalidad #BodyMovement #PasosLibres #EscuelaDeBaile #BaileLatino #DanceTraining #Valencia #Julio2026
URL:https://www.magicdance.es/event/formacion-presencial-de-bachata-tradicional-con-evelyn-la-negra/
LOCATION:Academia Magic Dance\, C/Honorato Juan 14\, Valencia\, Valencia\, Valencia\, 46007\, Spain
ATTACH;FMTTYPE=image/png:https://www.magicdance.es/wp-content/uploads/2026/03/Carteles-Clases-1-scaled.png
ORGANIZER;CN="Carmen Lorente":MAILTO:magidanceacademia@gmail.com
END:VEVENT
END:VCALENDAR