BEGIN:VCALENDAR
VERSION:2.0
PRODID:-//Academia de baile y danza en Valencia Magic Dance - ECPv6.15.20//NONSGML v1.0//EN
CALSCALE:GREGORIAN
METHOD:PUBLISH
X-ORIGINAL-URL:https://www.magicdance.es
X-WR-CALDESC:Eventos para Academia de baile y danza en Valencia Magic Dance
REFRESH-INTERVAL;VALUE=DURATION:PT1H
X-Robots-Tag:noindex
X-PUBLISHED-TTL:PT1H
BEGIN:VTIMEZONE
TZID:Europe/Madrid
BEGIN:DAYLIGHT
TZOFFSETFROM:+0100
TZOFFSETTO:+0200
TZNAME:CEST
DTSTART:20250330T010000
END:DAYLIGHT
BEGIN:STANDARD
TZOFFSETFROM:+0200
TZOFFSETTO:+0100
TZNAME:CET
DTSTART:20251026T010000
END:STANDARD
BEGIN:DAYLIGHT
TZOFFSETFROM:+0100
TZOFFSETTO:+0200
TZNAME:CEST
DTSTART:20260329T010000
END:DAYLIGHT
BEGIN:STANDARD
TZOFFSETFROM:+0200
TZOFFSETTO:+0100
TZNAME:CET
DTSTART:20261025T010000
END:STANDARD
BEGIN:DAYLIGHT
TZOFFSETFROM:+0100
TZOFFSETTO:+0200
TZNAME:CEST
DTSTART:20270328T010000
END:DAYLIGHT
BEGIN:STANDARD
TZOFFSETFROM:+0200
TZOFFSETTO:+0100
TZNAME:CET
DTSTART:20271031T010000
END:STANDARD
END:VTIMEZONE
BEGIN:VEVENT
DTSTART;VALUE=DATE:20260221
DTEND;VALUE=DATE:20260223
DTSTAMP:20260425T133725
CREATED:20260112T071715Z
LAST-MODIFIED:20260112T071715Z
UID:11833-1771632000-1771804799@www.magicdance.es
SUMMARY:Evelyn La Negra Formación Bachata Tradicional
DESCRIPTION:✨ Nueva edición en Magic Dance: Formación Presencial de Bachata Tradicional con Evelyn “La Negra” (¡Exclusivo en España!) ✨\nVuelve una de las formaciones más completas y esta vez llega con novedad importante: se incorpora el MÓDULO 2. Podrás realizar Módulo 1 (base imprescindible) y\, si quieres seguir avanzando\, subir un escalón con Módulo 2\, ambos pensados para profesores y bailarines que buscan estructura\, calidad y recursos reales para su bachata. Y además\, mantenemos un intensivo para bailadores que no son profes y quieren mejorar su bachata tradicional con una clase potente y muy práctica 💥 \n📅 21 y 22 de febrero en Magic Dance (📍 C/ Honorato Juan 1\, Valencia).👩‍🏫 Teacher Training Módulo 1 (8h): sábado 11:00–14:00 y 15:30–18:30; domingo 10:00–12:00.👨‍🏫 Teacher Training Módulo 2 (8h): sábado 19:00–22:00; domingo 12:00–14:30 y 16:00–18:30.💃 Intensivo Bachata Tradicional (3h): domingo 19:00–22:00 (musicalidad\, pasos libres & flow\, fundamentos de pareja). \nEn la formación trabajaremos historia y fundamentos\, didáctica\, musicalidad\, pasitos\, body movement\, trabajo individual y en pareja e improvisación para que tu bachata se vea y se sienta más auténtica\, clara y con criterio ✨ \n📲 Reservas e info por WhatsApp: 665 09 51 63 / 665 81 60 20 (plazas limitadas). \n#MagicDance #BachataTradicional #EvelynLaNegra #FormacionBachata #TeacherTraining #BachataValencia #ValenciaBaila #BachataDominicana #Musicalidad #BodyMovement #PasosLibres #EscuelaDeBaile #BaileLatino #CursosDeBaile #Valencia
URL:https://www.magicdance.es/event/evelyn-la-negra-formacion-bachata-tradicional/
LOCATION:Valencia
ATTACH;FMTTYPE=image/png:https://www.magicdance.es/wp-content/uploads/2026/01/evelynbueno-scaled.png
END:VEVENT
BEGIN:VEVENT
DTSTART;TZID=Europe/Madrid:20260221T113000
DTEND;TZID=Europe/Madrid:20260221T133000
DTSTAMP:20260425T133725
CREATED:20260125T075405Z
LAST-MODIFIED:20260126T161729Z
UID:11789-1771673400-1771680600@www.magicdance.es
SUMMARY:Taller de Salsa Flamenco con Carmen Lorente
DESCRIPTION:🔥 ESTE AÑO… ¡TALLERES MENSUALES DE SALSA FLAMENCO! 🔥\nDe la mano de Carmen Lorente llega una formación muy especial: talleres mensuales de Salsa Flamenco 💃✨.Cada taller es independiente\, así que puedes unirte cuando quieras y disfrutar de la energía y la pasión de este estilo único. \nAdemás\, como novedad\, quienes participen en los cursillos de abril\, mayo y junio podrán formar parte de un show final el 28 de junio\, que se preparará en esas clases 🎭. \n📅 Fechas:27 septiembre · 18 octubre · 22 noviembre · 20 diciembre · 17 enero · 21 febrero · 14 marzo \n🕚 Horario: 11:30h – 13:30h💸 Precio: 35€ (30€ alumnos Magic)🎟 Pack completo: los 7 cursillos por 180€ \n👉 Consulta más detalles en secretaría y asegura tu plaza. \nUn año lleno de novedades\, formación y espectáculo… ¿te lo vas a perder? 💥 \n#SalsaFlamenco #MagicDance #CarmenLorente #TalleresDeBaile #BaileEnValencia #ClasesDeBaile #SalsaEnValencia #FlamencoFusion #SalsaFusion #BaileConPasión #AprendeABailar #DanzaEnValencia #ShowFinal #SalsaYFlamenco #BaileEsVida #AcademiaDeBaile #FormaciónDeBaile
URL:https://www.magicdance.es/event/talleres-de-salsa-flamenco-con-carmen-lorente/
LOCATION:Academia Magic Dance\, C/Honorato Juan 14\, Valencia\, Valencia\, Valencia\, 46007\, Spain
ATTACH;FMTTYPE=image/png:https://www.magicdance.es/wp-content/uploads/2025/09/Carteles-Clases-1-scaled.png
END:VEVENT
END:VCALENDAR