BEGIN:VCALENDAR
VERSION:2.0
PRODID:-//Academia de baile y danza en Valencia Magic Dance - ECPv6.15.20//NONSGML v1.0//EN
CALSCALE:GREGORIAN
METHOD:PUBLISH
X-WR-CALNAME:Academia de baile y danza en Valencia Magic Dance
X-ORIGINAL-URL:https://www.magicdance.es
X-WR-CALDESC:Eventos para Academia de baile y danza en Valencia Magic Dance
REFRESH-INTERVAL;VALUE=DURATION:PT1H
X-Robots-Tag:noindex
X-PUBLISHED-TTL:PT1H
BEGIN:VTIMEZONE
TZID:Europe/Madrid
BEGIN:DAYLIGHT
TZOFFSETFROM:+0100
TZOFFSETTO:+0200
TZNAME:CEST
DTSTART:20250330T010000
END:DAYLIGHT
BEGIN:STANDARD
TZOFFSETFROM:+0200
TZOFFSETTO:+0100
TZNAME:CET
DTSTART:20251026T010000
END:STANDARD
BEGIN:DAYLIGHT
TZOFFSETFROM:+0100
TZOFFSETTO:+0200
TZNAME:CEST
DTSTART:20260329T010000
END:DAYLIGHT
BEGIN:STANDARD
TZOFFSETFROM:+0200
TZOFFSETTO:+0100
TZNAME:CET
DTSTART:20261025T010000
END:STANDARD
BEGIN:DAYLIGHT
TZOFFSETFROM:+0100
TZOFFSETTO:+0200
TZNAME:CEST
DTSTART:20270328T010000
END:DAYLIGHT
BEGIN:STANDARD
TZOFFSETFROM:+0200
TZOFFSETTO:+0100
TZNAME:CET
DTSTART:20271031T010000
END:STANDARD
END:VTIMEZONE
BEGIN:VEVENT
DTSTART;TZID=Europe/Madrid:20260209T193000
DTEND;TZID=Europe/Madrid:20260209T213000
DTSTAMP:20260425T133653
CREATED:20260206T093921Z
LAST-MODIFIED:20260206T093922Z
UID:11848-1770665400-1770672600@www.magicdance.es
SUMMARY:Talleres con Osmar Perrones y Yamulee
DESCRIPTION:🔥🌍 Osmar Perrones y Yamulee vuelven a Magic Dance 🌍🔥\nDesde Nueva York\, regresa a nuestra academia Osmar Perrones\, director de Yamulee y uno de los nombres más influyentes de la salsa a nivel mundial. Para Magic Dance es un auténtico orgullo volver a recibir a un artista de este calibre: una leyenda de la salsa\, creador de estilo\, con una trayectoria que ha marcado a generaciones de bailadores. \n📅 Lunes 9 de febrero de 2026 en Magic Dance (📍 C/ Honorato Juan 1\, Valencia)🕺 19:30–20:30 Taller Pasos Libres💃 20:30–21:30 Taller Pareja \nUna oportunidad única para aprender de primera mano su técnica\, su estilo y sus recursos\, en una formación intensa y práctica. \n📲 Información y reservas: 665 09 51 63 / 665 81 60 20⚠️ Plazas limitadas \n#MagicDance #OsmarPerrones #Yamulee #SalsaValencia #ValenciaBaila #TallerDeSalsa #PasosLibres #SalsaEnPareja #SalsaTraining #FormacionDeBaile #EscuelaDeBaile #BaileLatino #SalsaOn2 #SalsaNYStyle #BailarEnValencia #Valencia2026
URL:https://www.magicdance.es/event/talleres-con-osmar-perrones-y-yamulee/
LOCATION:Valencia
ATTACH;FMTTYPE=image/png:https://www.magicdance.es/wp-content/uploads/2026/02/Carteles-Clases-scaled.png
END:VEVENT
END:VCALENDAR