BEGIN:VCALENDAR
VERSION:2.0
PRODID:-//Academia de baile y danza en Valencia Magic Dance - ECPv6.15.20//NONSGML v1.0//EN
CALSCALE:GREGORIAN
METHOD:PUBLISH
X-WR-CALNAME:Academia de baile y danza en Valencia Magic Dance
X-ORIGINAL-URL:https://www.magicdance.es
X-WR-CALDESC:Eventos para Academia de baile y danza en Valencia Magic Dance
REFRESH-INTERVAL;VALUE=DURATION:PT1H
X-Robots-Tag:noindex
X-PUBLISHED-TTL:PT1H
BEGIN:VTIMEZONE
TZID:Europe/Madrid
BEGIN:DAYLIGHT
TZOFFSETFROM:+0100
TZOFFSETTO:+0200
TZNAME:CEST
DTSTART:20240331T010000
END:DAYLIGHT
BEGIN:STANDARD
TZOFFSETFROM:+0200
TZOFFSETTO:+0100
TZNAME:CET
DTSTART:20241027T010000
END:STANDARD
BEGIN:DAYLIGHT
TZOFFSETFROM:+0100
TZOFFSETTO:+0200
TZNAME:CEST
DTSTART:20250330T010000
END:DAYLIGHT
BEGIN:STANDARD
TZOFFSETFROM:+0200
TZOFFSETTO:+0100
TZNAME:CET
DTSTART:20251026T010000
END:STANDARD
BEGIN:DAYLIGHT
TZOFFSETFROM:+0100
TZOFFSETTO:+0200
TZNAME:CEST
DTSTART:20260329T010000
END:DAYLIGHT
BEGIN:STANDARD
TZOFFSETFROM:+0200
TZOFFSETTO:+0100
TZNAME:CET
DTSTART:20261025T010000
END:STANDARD
END:VTIMEZONE
BEGIN:VEVENT
DTSTART;TZID=Europe/Madrid:20251213T170000
DTEND;TZID=Europe/Madrid:20251215T210000
DTSTAMP:20260425T165513
CREATED:20250801T072740Z
LAST-MODIFIED:20250919T081801Z
UID:11750-1765645200-1765832400@www.magicdance.es
SUMMARY:Talleres con Gigi Bellomo
DESCRIPTION:🔥 ¡Vuelve Gigi Bellomo a Magic Dance! 🔥\nEn años anteriores ya nos regaló una experiencia increíble y este año repetimos 🙌. Seguimos apostando por la formación de nuestro alumnado de la mano de artistas internacionales referentes a nivel mundial 🌍✨. \nEste próximo sábado 13 de diciembre de 2025 tienes una cita con un artista que no te dejará indiferente.⏰ Horarios de los talleres: \n\n\n17:00 – 18:30 👉 Clave\, Son y Cha Cha Cha \n\n\n19:00 – 20:00 👉 Salsa y Tumbao (Pasos Libres) \n\n\n20:00 – 21:00 👉 Salsa en Pareja (Técnica y Trucos) \n\n\n💵 Precios: \n\n\nClase suelta: 30€ \n\n\nClase de 1h: 25€ \n\n\n2 clases de 1h: 40€ \n\n\n2\,5h de clase: 45€ \n\n\nTodas las clases: 55€ \n\n\n📲 Reserva tu plaza: 665 09 51 63 \n✨ ¡No te pierdas esta cita única con uno de los grandes de la salsa! \n#MagicDance #GigiBellomo #SalsaEnValencia #FormaciónDeBaile #SalsaInternacional #BaileConSabor
URL:https://www.magicdance.es/event/talleres-con-gigi-bellomo/
LOCATION:Academia Magic Dance\, C/Honorato Juan 14\, Valencia\, Valencia\, Valencia\, 46007\, Spain
ATTACH;FMTTYPE=image/png:https://www.magicdance.es/wp-content/uploads/2025/08/4-1-scaled.png
END:VEVENT
END:VCALENDAR